BEGIN:VCALENDAR
VERSION:2.0
PRODID:-//MyMersin – Restoranlar, Etkinlikler ve Gezi Rehberi - ECPv6.15.20//NONSGML v1.0//EN
CALSCALE:GREGORIAN
METHOD:PUBLISH
X-WR-CALNAME:MyMersin – Restoranlar, Etkinlikler ve Gezi Rehberi
X-ORIGINAL-URL:https://mymersin.com.tr
X-WR-CALDESC:MyMersin – Restoranlar, Etkinlikler ve Gezi Rehberi için etkinlikler
REFRESH-INTERVAL;VALUE=DURATION:PT1H
X-Robots-Tag:noindex
X-PUBLISHED-TTL:PT1H
BEGIN:VTIMEZONE
TZID:UTC
BEGIN:STANDARD
TZOFFSETFROM:+0000
TZOFFSETTO:+0000
TZNAME:UTC
DTSTART:20240101T000000
END:STANDARD
END:VTIMEZONE
BEGIN:VEVENT
DTSTART;TZID=UTC:20250912T210000
DTEND;TZID=UTC:20250912T210000
DTSTAMP:20260421T001956
CREATED:20250812T180500Z
LAST-MODIFIED:20250825T045320Z
UID:39570-1757710800-1757710800@mymersin.com.tr
SUMMARY:Hakan Altun
DESCRIPTION:Don’t Miss Hakan Altun Live in Mersin on Friday\, September 12\, 2025! \nAre you ready to experience Hakan Altun like never before? With chart-topping hits like Yorgun Yu0131llaru0131m\, Bir Telefon and Hani Bekleyecektin and 915.7K+ devoted fans\, Hakan Altun is taking over Jolly Joker Mersin this Friday\, September 12\, 2025\, and trust us\, you don’t want to miss this. \n  \nWith multiple shows lined up\, this one ensures to be the ultimate musical experience\, where the energy of Hakan Altun will make you dance\, sing\, and maybe even cry (in a good way). \nEvent Details: \n📅 Date: Friday\, September 12\, 2025\n⏰ Time: 9:00 PM\n📍 Venue: Jolly Joker Mersin \n  \nExpect an unforgettable performance featuring all your favorite songs and some surprises you’ve never heard before. So\, If you’re discovering Hakan Altun for the first time\, this show will blow your mind. \nWhy This Show is Unmissable \nWith over 1.1M+ fans streaming their music monthly and viral singles in every playlist\, Hakan Altun is at the peak of their career. If you’re a long-time fan or just love the buzz\, this show will be one for the books. \n  \nP.S. – You don’t want to be that person who hears about it later! We will not let you miss this in any way!🎉 \nArtist’s Power Move \nHakan Altun has been setting the stage on fire with performances that leave fans begging for more. With an incredible setlist and live versions of your favorite songs\, you’ll leave with stories to tell (and maybe a few epic selfies). Follow Hakan Altun on AllEvents to get hyped for the event! \n🎟️ Book Your Tickets Now! 🎟️ \nThis is your chance to witness Hakan Altun live and in their element. Grab your tickets now for Hakan Altun in mersin at Jolly Joker Mersin and be part of a night that everyone will be talking about. Don’t wait—tickets are selling fast.
URL:https://mymersin.com.tr/etkinlik/hakan-altun/
LOCATION:Joly Joker Mersin\, MERSİN MARİNA AVM\, Mersin\, Yenisehir\, 33160\, Turkey
CATEGORIES:Entertainment,Music
ATTACH;FMTTYPE=image/webp:https://mymersin.com.tr/wp-content/uploads/2025/08/hakan-altun.webp
ORGANIZER;CN="Joly Joker":MAILTO:mersin@jolyjoker.com.tr
END:VEVENT
END:VCALENDAR