BEGIN:VCALENDAR
VERSION:2.0
PRODID:-//MyMersin – Restoranlar, Etkinlikler ve Gezi Rehberi - ECPv6.15.20//NONSGML v1.0//EN
CALSCALE:GREGORIAN
METHOD:PUBLISH
X-ORIGINAL-URL:https://mymersin.com.tr
X-WR-CALDESC:MyMersin – Restoranlar, Etkinlikler ve Gezi Rehberi için etkinlikler
REFRESH-INTERVAL;VALUE=DURATION:PT1H
X-Robots-Tag:noindex
X-PUBLISHED-TTL:PT1H
BEGIN:VTIMEZONE
TZID:Europe/Istanbul
BEGIN:STANDARD
TZOFFSETFROM:+0300
TZOFFSETTO:+0300
TZNAME:+03
DTSTART:20250101T000000
END:STANDARD
END:VTIMEZONE
BEGIN:VEVENT
DTSTART;TZID=Europe/Istanbul:20260523T210000
DTEND;TZID=Europe/Istanbul:20260523T235900
DTSTAMP:20260419T202848
CREATED:20260404T095121Z
LAST-MODIFIED:20260404T173749Z
UID:51754-1779570000-1779580740@mymersin.com.tr
SUMMARY:Ahmet Kaya Anma Konseri Mersin
DESCRIPTION:Mersin’de Ahmet Kaya şarkılarının seslendirileceği en güncel etkinlik\, 23 Mayıs 2026 tarihinde gerçekleşecek olan Ahmet Kaya ile Kardeş Türküler konseridir. \n\nEtkinlik Detayları\n\nEtkinlik Adı: Ahmet Kaya ile Kardeş Türküler\nTarih: 23 Mayıs 2026\, Cumartesi\nSaat: Kapı açılışı 21:00\, konser başlangıcı 22:30\nMekan: Jolly Joker Mersin (Mersin Marina AVM)\nİçerik: Kardeş Türküler’in Ahmet Kaya şarkılarındaki insan hikayelerini kendi yorumlarıyla harmanladığı özel bir performans. \n\n\nBilet Bilgileri\n\nBiletler aşağıdaki platformlar üzerinden temin edilebilir:\n\nBiletix\nBubilet\nJolly Joker Gişeleri \n\nNot: Loca biletleri için 0850 549 01 34 numaralı telefondan rezervasyon yaptırılması zorunludur.\n\nDaha Fazlası İçin:\n\nEtkinlik biletlerini Biletix üzerinden kontrol edebilirsiniz.\nFarklı fiyat seçenekleri ve seanslar için Bubilet sayfasını inceleyebilirsiniz.\nMekan kuralları ve ulaşım detayları için Jolly Joker Mersin web sitesini ziyaret edebilirsiniz.
URL:https://mymersin.com.tr/etkinlik/ahmet-kaya/
LOCATION:Joly Joker Mersin\, MERSİN MARİNA AVM\, Mersin\, Yenisehir\, 33160\, Turkey
CATEGORIES:Music
ATTACH;FMTTYPE=image/webp:https://mymersin.com.tr/wp-content/uploads/2026/04/ahmet-kaya.webp
END:VEVENT
END:VCALENDAR