BEGIN:VCALENDAR
VERSION:2.0
PRODID:-//MyMersin – Restoranlar, Etkinlikler ve Gezi Rehberi - ECPv6.15.20//NONSGML v1.0//EN
CALSCALE:GREGORIAN
METHOD:PUBLISH
X-ORIGINAL-URL:https://mymersin.com.tr
X-WR-CALDESC:MyMersin – Restoranlar, Etkinlikler ve Gezi Rehberi için etkinlikler
REFRESH-INTERVAL;VALUE=DURATION:PT1H
X-Robots-Tag:noindex
X-PUBLISHED-TTL:PT1H
BEGIN:VTIMEZONE
TZID:Europe/Istanbul
BEGIN:STANDARD
TZOFFSETFROM:+0300
TZOFFSETTO:+0300
TZNAME:+03
DTSTART:20250101T000000
END:STANDARD
END:VTIMEZONE
BEGIN:VEVENT
DTSTART;TZID=Europe/Istanbul:20260516T210000
DTEND;TZID=Europe/Istanbul:20260516T235900
DTSTAMP:20260419T202849
CREATED:20260404T095120Z
LAST-MODIFIED:20260404T173111Z
UID:51753-1778965200-1778975940@mymersin.com.tr
SUMMARY:Berkay Konseri Mersin
DESCRIPTION:Berkay\, 16 Mayıs 2026 Cumartesi günü saat 21:00‘de Jolly Joker Mersin sahnesinde hayranlarıyla buluşacak. Etkinlik\, sanatçının sevilen pop şarkıları ve enerjik sahne performansı eşliğinde gerçekleşecek. \n\nKonser Bilgileri\n\nTarih ve Saat: 16 Mayıs 2026\, Cumartesi | 21:00\nMekan: Jolly Joker Mersin (Mersin Marina AVM)\nYaş Sınırı: 18 yaş ve üzeri\nBilet ve Rezervasyon:\n\nBiletler Biletix\, Bubilet ve Radar Türkiye üzerinden temin edilebilir.\nLoca bilet sahiplerinin bilet aldıktan sonra mekan ile iletişime geçerek rezervasyon yaptırması gerekmektedir.\n\n\nİmkanlar: Bistro düzeni için minimum 2 veya 3 kişi olma şartı aranmaktadır.\n\nKonserle ilgili güncel duyuruları takip etmek için mekanın sosyal medya hesaplarını veya resmi bilet satış kanallarını düzenli olarak kontrol edebilirsiniz.\n\nDaha Fazla Bilgi İçin\n\nDetaylı bilet fiyatları ve kategori bilgilerini Biletix sayfasından inceleyebilirsiniz.\n\nAlternatif bilet seçenekleri ve etkinlik kuralları için Bubilet platformuna göz atabilirsiniz.\nSanatçının diğer turne tarihleri için Radar Türkiye sayfasını ziyaret edebilirsiniz.\n\nMekandaki bilet kategorileri veya loca rezervasyon detayları hakkında daha fazla bilgi almak ister misiniz?
URL:https://mymersin.com.tr/etkinlik/berkay/
LOCATION:Joly Joker Mersin\, MERSİN MARİNA AVM\, Mersin\, Yenisehir\, 33160\, Turkey
CATEGORIES:Music
ATTACH;FMTTYPE=image/jpeg:https://mymersin.com.tr/wp-content/uploads/2026/04/berkay.jpg
END:VEVENT
END:VCALENDAR