BEGIN:VCALENDAR
VERSION:2.0
PRODID:-//MyMersin – Restoranlar, Etkinlikler ve Gezi Rehberi - ECPv6.15.20//NONSGML v1.0//EN
CALSCALE:GREGORIAN
METHOD:PUBLISH
X-ORIGINAL-URL:https://mymersin.com.tr
X-WR-CALDESC:MyMersin – Restoranlar, Etkinlikler ve Gezi Rehberi için etkinlikler
REFRESH-INTERVAL;VALUE=DURATION:PT1H
X-Robots-Tag:noindex
X-PUBLISHED-TTL:PT1H
BEGIN:VTIMEZONE
TZID:Europe/Istanbul
BEGIN:STANDARD
TZOFFSETFROM:+0300
TZOFFSETTO:+0300
TZNAME:+03
DTSTART:20250101T000000
END:STANDARD
END:VTIMEZONE
BEGIN:VEVENT
DTSTART;TZID=Europe/Istanbul:20260509T210000
DTEND;TZID=Europe/Istanbul:20260509T235900
DTSTAMP:20260419T202846
CREATED:20260404T095106Z
LAST-MODIFIED:20260404T164620Z
UID:51751-1778360400-1778371140@mymersin.com.tr
SUMMARY:Linet Konseri Mersin
DESCRIPTION:Linet\, 9 Mayıs 2026 Cumartesi akşamı saat 21:00‘de Jolly Joker Mersin sahnesinde bir konser verecektir. \n\nEtkinlik Detayları\n\nMekan: Jolly Joker Mersin (Mersin Marina AVM).\nTarih ve Saat: 9 Mayıs 2026\, Kapı açılış 21:00.\nİçerik: Sanatçı “İhtimal”\, “Kader” ve “Adını Sen Koy” gibi sevilen şarkılarını canlı olarak seslendirecek.\n\n\nBilet Bilgileri\n\nBiletler aşağıdaki platformlar ve gişeler üzerinden temin edilebilir:\n\nBiletix\nBubilet\nJolly Joker Mersin Resmi Web Sitesi\nAyrıca Biletinial\, Paribu Pass ve mekanın kendi gişelerinden satış yapılmaktadır. \n\n\nGelecek Diğer Konserler\n\nSanatçının 2026 bahar takvimindeki diğer bazı performansları şöyledir:\n\n3 Nisan 2026: Masal Ataşehir\, İstanbul.\n10 Nisan 2026: Jolly Joker Vadistanbul\, İstanbul.\n17 Nisan 2026: Jolly Joker Kartal İstMarina\, İstanbul.\n\nMersin Marina bölgesindeki diğer etkinlikler veya mekanın rezervasyon detayları hakkında daha fazla bilgi ister misiniz?
URL:https://mymersin.com.tr/etkinlik/linet-konseri-mersin/
LOCATION:Joly Joker Mersin\, MERSİN MARİNA AVM\, Mersin\, Yenisehir\, 33160\, Turkey
CATEGORIES:Music
ATTACH;FMTTYPE=image/webp:https://mymersin.com.tr/wp-content/uploads/2026/04/linet.webp
END:VEVENT
END:VCALENDAR