BEGIN:VCALENDAR
VERSION:2.0
PRODID:-//MyMersin – Restoranlar, Etkinlikler ve Gezi Rehberi - ECPv6.15.20//NONSGML v1.0//EN
CALSCALE:GREGORIAN
METHOD:PUBLISH
X-WR-CALNAME:MyMersin – Restoranlar, Etkinlikler ve Gezi Rehberi
X-ORIGINAL-URL:https://mymersin.com.tr
X-WR-CALDESC:MyMersin – Restoranlar, Etkinlikler ve Gezi Rehberi için etkinlikler
REFRESH-INTERVAL;VALUE=DURATION:PT1H
X-Robots-Tag:noindex
X-PUBLISHED-TTL:PT1H
BEGIN:VTIMEZONE
TZID:Europe/Istanbul
BEGIN:STANDARD
TZOFFSETFROM:+0300
TZOFFSETTO:+0300
TZNAME:+03
DTSTART:20250101T000000
END:STANDARD
END:VTIMEZONE
BEGIN:VEVENT
DTSTART;TZID=Europe/Istanbul:20260502T210000
DTEND;TZID=Europe/Istanbul:20260502T235900
DTSTAMP:20260419T190113
CREATED:20260404T095105Z
LAST-MODIFIED:20260404T163727Z
UID:51750-1777755600-1777766340@mymersin.com.tr
SUMMARY:Yüksek Sadakat Konseri Mersin
DESCRIPTION:Yüksek Sadakat\, 2 Mayıs 2026 Cumartesi akşamı Mersin’de sahne alacaktır. Grubun sevilen şarkılarını seslendireceği bu etkinlik için detaylar şu şekildedir:\n\nEtkinlik Bilgileri\n\nMekan: Jolly Joker Mersin\nAdres: Mersin Marina AVM\, Eğriçam\, Yenişehir\nTarih ve Saat: 2 Mayıs 2026\, Kapı Açılış: 21:00\, Konser Başlangıcı: 22:30\nYaş Sınırı: Etkinlikte 18 yaş sınırı bulunmaktadır. \n\nBilet ve Rezervasyon\n\nBiletler farklı kategorilerde satışa sunulmuş olup fiyatlar platformlara göre değişiklik gösterebilir:\n\nBilet Satış Platformları: Biletlere Bubilet\, Biletix ve Biletinial üzerinden ulaşabilirsiniz.\nKategoriler: Ayakta\, Sahne Önü Ayakta ve Loca seçenekleri mevcuttur.\nÖnemli Not: Loca bilet sahiplerinin 0850 549 01 34 numaralı telefonu arayarak rezervasyon yaptırmaları zorunludur.\n\n\nMekan Detayları\n\nJolly Joker Mersin\, Mersin Marina içerisinde yer alan popüler bir canlı müzik mekanıdır. Mekan tekerlekli sandalye erişimine uygun giriş ve oturma alanlarına sahiptir.\n\nDaha fazla etkinlik için Mersin Kültür Yolu Festivali (4-12 Nisan) ve Portakal Çiçeği Festivali (3-5 Nisan) gibi Nisan ayındaki diğer önemli organizasyonlara da göz atabilirsiniz.
URL:https://mymersin.com.tr/etkinlik/yuksek-sadakat/
LOCATION:Joly Joker Mersin\, MERSİN MARİNA AVM\, Mersin\, Yenisehir\, 33160\, Turkey
CATEGORIES:Music
ATTACH;FMTTYPE=image/avif:https://mymersin.com.tr/wp-content/uploads/2026/04/yuksek-sadakat.avif
END:VEVENT
END:VCALENDAR