BEGIN:VCALENDAR
VERSION:2.0
PRODID:-//MyMersin – Restoranlar, Etkinlikler ve Gezi Rehberi - ECPv6.15.20//NONSGML v1.0//EN
CALSCALE:GREGORIAN
METHOD:PUBLISH
X-WR-CALNAME:MyMersin – Restoranlar, Etkinlikler ve Gezi Rehberi
X-ORIGINAL-URL:https://mymersin.com.tr
X-WR-CALDESC:MyMersin – Restoranlar, Etkinlikler ve Gezi Rehberi için etkinlikler
REFRESH-INTERVAL;VALUE=DURATION:PT1H
X-Robots-Tag:noindex
X-PUBLISHED-TTL:PT1H
BEGIN:VTIMEZONE
TZID:Europe/Istanbul
BEGIN:STANDARD
TZOFFSETFROM:+0300
TZOFFSETTO:+0300
TZNAME:+03
DTSTART:20250101T000000
END:STANDARD
END:VTIMEZONE
BEGIN:VEVENT
DTSTART;TZID=Europe/Istanbul:20260501T210000
DTEND;TZID=Europe/Istanbul:20260501T210000
DTSTAMP:20260419T190019
CREATED:20260404T073905Z
LAST-MODIFIED:20260404T095803Z
UID:51703-1777669200-1777669200@mymersin.com.tr
SUMMARY:Yaşar Konseri
DESCRIPTION:Mersin’de Nisan ve Mayıs 2026 aylarında iki farklı Yaşar konseri planlanmıştır:\n\nÜmit Yaşar Konseri\n\nTarih: 17 Nisan 2026\, Cuma\nSaat: 21:00\nMekan: Jolly Joker Mersin\n\n\nYaşar (Yaşar Günaçgün) Konseri\n\nTarih: 1 Mayıs 2026\, Cuma\nSaat: 21:00 (Kapı Açılış)\, 22:30 (Sahne)\nMekan: Jolly Joker Mersin\n\n\n\nMekan Bilgisi:Jolly Joker Mersin\, Yenişehir’deki Mersin Marina AVM içerisinde bulunmaktadır. Biletler dijital platformlar (Biletix\, Bubilet\, Biletinial) ve mekan gişesi üzerinden temin edilebilir.\n 
URL:https://mymersin.com.tr/etkinlik/yasar-konseri/
LOCATION:Joly Joker Mersin\, MERSİN MARİNA AVM\, Mersin\, Yenisehir\, 33160\, Turkey
CATEGORIES:Music
ATTACH;FMTTYPE=image/webp:https://mymersin.com.tr/wp-content/uploads/2026/04/yasar-konseri-jolly-joker.webp
END:VEVENT
END:VCALENDAR