BEGIN:VCALENDAR
VERSION:2.0
PRODID:-//MyMersin – Restoranlar, Etkinlikler ve Gezi Rehberi - ECPv6.15.20//NONSGML v1.0//EN
CALSCALE:GREGORIAN
METHOD:PUBLISH
X-WR-CALNAME:MyMersin – Restoranlar, Etkinlikler ve Gezi Rehberi
X-ORIGINAL-URL:https://mymersin.com.tr
X-WR-CALDESC:MyMersin – Restoranlar, Etkinlikler ve Gezi Rehberi için etkinlikler
REFRESH-INTERVAL;VALUE=DURATION:PT1H
X-Robots-Tag:noindex
X-PUBLISHED-TTL:PT1H
BEGIN:VTIMEZONE
TZID:Europe/Istanbul
BEGIN:STANDARD
TZOFFSETFROM:+0300
TZOFFSETTO:+0300
TZNAME:+03
DTSTART:20250101T000000
END:STANDARD
END:VTIMEZONE
BEGIN:VEVENT
DTSTART;TZID=Europe/Istanbul:20260425T210000
DTEND;TZID=Europe/Istanbul:20260425T235900
DTSTAMP:20260419T190030
CREATED:20260404T095104Z
LAST-MODIFIED:20260404T104134Z
UID:51748-1777150800-1777161540@mymersin.com.tr
SUMMARY:Eypio Konseri Mersin
DESCRIPTION:Eypio\, 25 Nisan 2026 Cumartesi günü saat 21:00‘de Mersin’de sahne alacaktır.\n\nKonser Bilgileri\n\nMekan: Jolly Joker Mersin (Yenişehir)\nTarih ve Saat: 25 Nisan 2026\, Cumartesi – 21:00\nBilet Satış Noktaları: Biletlere resmi Biletix\, Bubilet ve Paribu Pass platformları üzerinden ulaşabilirsiniz.\n\nÖnemli Not: Loca bileti alan misafirlerin\, bilet alımı sonrası 0850 549 01 34 numaralı hattan rezervasyon yaptırmaları zorunludur. 
URL:https://mymersin.com.tr/etkinlik/eypio-konseri-mersin/
LOCATION:Joly Joker Mersin\, MERSİN MARİNA AVM\, Mersin\, Yenisehir\, 33160\, Turkey
CATEGORIES:Music
ATTACH;FMTTYPE=image/jpeg:https://mymersin.com.tr/wp-content/uploads/2026/04/eypiyo.jpg
END:VEVENT
END:VCALENDAR