BEGIN:VCALENDAR
VERSION:2.0
PRODID:-//MyMersin – Restoranlar, Etkinlikler ve Gezi Rehberi - ECPv6.15.20//NONSGML v1.0//EN
CALSCALE:GREGORIAN
METHOD:PUBLISH
X-WR-CALNAME:MyMersin – Restoranlar, Etkinlikler ve Gezi Rehberi
X-ORIGINAL-URL:https://mymersin.com.tr
X-WR-CALDESC:MyMersin – Restoranlar, Etkinlikler ve Gezi Rehberi için etkinlikler
REFRESH-INTERVAL;VALUE=DURATION:PT1H
X-Robots-Tag:noindex
X-PUBLISHED-TTL:PT1H
BEGIN:VTIMEZONE
TZID:Europe/Istanbul
BEGIN:STANDARD
TZOFFSETFROM:+0300
TZOFFSETTO:+0300
TZNAME:+03
DTSTART:20250101T000000
END:STANDARD
END:VTIMEZONE
BEGIN:VEVENT
DTSTART;TZID=Europe/Istanbul:20260418T210000
DTEND;TZID=Europe/Istanbul:20260418T235900
DTSTAMP:20260419T190116
CREATED:20260404T095101Z
LAST-MODIFIED:20260404T101252Z
UID:51746-1776546000-1776556740@mymersin.com.tr
SUMMARY:Soner Arıca Konseri Mersin
DESCRIPTION:Soner Arıca\, 2026 yılı turnesi kapsamında 18 Nisan 2026 Cumartesi günü Mersin’de sahne alacaktır. Sanatçı\, “Misafir Şarkılar” konseptiyle gerçekleştireceği bu özel gecede sevilen klasiklerini ve yeni projelerini seslendirecektir.\n\nKonserle ilgili detaylar şu şekildedir:\n\nTarih ve Saat: 18 Nisan 2026 Cumartesi\, Saat 21:00.\nMekan: Jolly Joker Mersin (Mersin Marina AVM).\nYaş Sınırı: Etkinlik için 18 yaş sınırı bulunmaktadır.\nBilet Satış Noktaları: Biletler Biletix\, Bubilet\, Biletinial ve Jolly Joker gişelerinden temin edilebilir.\n\nDaha Fazla Bilgi:\n\nGüncel konser takvimi ve duyurular için sanatçının resmi Instagram veya Facebook hesaplarını takip edebilirsiniz.\n\nKonaklama veya ulaşım planı yapıyorsanız\, mekanın Mersin Marina içerisinde yer aldığını göz önünde bulundurabilirsiniz.
URL:https://mymersin.com.tr/etkinlik/soner-arica-konseri-mersin/
LOCATION:Joly Joker Mersin\, MERSİN MARİNA AVM\, Mersin\, Yenisehir\, 33160\, Turkey
CATEGORIES:Music
ATTACH;FMTTYPE=image/jpeg:https://mymersin.com.tr/wp-content/uploads/2026/04/soner-arica.jpg
END:VEVENT
END:VCALENDAR