BEGIN:VCALENDAR
VERSION:2.0
PRODID:-//MyMersin – Restoranlar, Etkinlikler ve Gezi Rehberi - ECPv6.15.20//NONSGML v1.0//EN
CALSCALE:GREGORIAN
METHOD:PUBLISH
X-WR-CALNAME:MyMersin – Restoranlar, Etkinlikler ve Gezi Rehberi
X-ORIGINAL-URL:https://mymersin.com.tr
X-WR-CALDESC:MyMersin – Restoranlar, Etkinlikler ve Gezi Rehberi için etkinlikler
REFRESH-INTERVAL;VALUE=DURATION:PT1H
X-Robots-Tag:noindex
X-PUBLISHED-TTL:PT1H
BEGIN:VTIMEZONE
TZID:Europe/Istanbul
BEGIN:STANDARD
TZOFFSETFROM:+0300
TZOFFSETTO:+0300
TZNAME:+03
DTSTART:20250101T000000
END:STANDARD
END:VTIMEZONE
BEGIN:VEVENT
DTSTART;TZID=Europe/Istanbul:20260411T210000
DTEND;TZID=Europe/Istanbul:20260411T210000
DTSTAMP:20260419T190029
CREATED:20260404T081017Z
LAST-MODIFIED:20260404T095701Z
UID:51716-1775941200-1775941200@mymersin.com.tr
SUMMARY:Emre Fel
DESCRIPTION:Emre Fel\, 11 Nisan 2026 Cumartesi günü saat 21:00‘de Jolly Joker Mersin sahnesinde bir konser verecektir.\n\nEtkinlik Bilgileri\n\nEtkinlik Adı: Emre Fel Konseri\nTarih ve Saat: 11 Nisan 2026\, Cumartesi – 21:00\nMekan: Jolly Joker Mersin (Mersin Marina AVM içi)\nTür: Canlı Performans / Anadolu Pop – Modern Pop\nAçıklama: Sanatçı\, “Naçar”\, “Veda Türküsü” ve “Sana El Pençe Durmam” gibi sevilen parçalarını seslendirecektir.\nBilet ve Rezervasyon: Biletlere Biletix\, Bubilet\, Biletinial ve Jolly Joker gişelerinden ulaşılabilir. \n\n\nMekan Detayları\n\nAdres: Eğriçam\, Mersin Marina AVM\, Adnan Menderes Blv. No:33\, Yenişehir/Mersin\nÖzellikler: Tekerlekli sandalye erişimine uygun giriş\, otopark ve oturma alanları mevcuttur.
URL:https://mymersin.com.tr/etkinlik/emre-fel/
LOCATION:Joly Joker Mersin\, MERSİN MARİNA AVM\, Mersin\, Yenisehir\, 33160\, Turkey
CATEGORIES:Music
ATTACH;FMTTYPE=image/jpeg:https://mymersin.com.tr/wp-content/uploads/2026/04/emre-fal.jpg
END:VEVENT
END:VCALENDAR