BEGIN:VCALENDAR
VERSION:2.0
PRODID:-//MyMersin – Restoranlar, Etkinlikler ve Gezi Rehberi - ECPv6.15.20//NONSGML v1.0//EN
CALSCALE:GREGORIAN
METHOD:PUBLISH
X-WR-CALNAME:MyMersin – Restoranlar, Etkinlikler ve Gezi Rehberi
X-ORIGINAL-URL:https://mymersin.com.tr
X-WR-CALDESC:MyMersin – Restoranlar, Etkinlikler ve Gezi Rehberi için etkinlikler
REFRESH-INTERVAL;VALUE=DURATION:PT1H
X-Robots-Tag:noindex
X-PUBLISHED-TTL:PT1H
BEGIN:VTIMEZONE
TZID:Europe/Istanbul
BEGIN:STANDARD
TZOFFSETFROM:+0300
TZOFFSETTO:+0300
TZNAME:+03
DTSTART:20250101T000000
END:STANDARD
END:VTIMEZONE
BEGIN:VEVENT
DTSTART;TZID=Europe/Istanbul:20260403T210000
DTEND;TZID=Europe/Istanbul:20260403T235900
DTSTAMP:20260419T190115
CREATED:20260404T095058Z
LAST-MODIFIED:20260404T095058Z
UID:51742-1775250000-1775260740@mymersin.com.tr
SUMMARY:Serdar Ortaç Konseri Mersin
DESCRIPTION:
URL:https://mymersin.com.tr/etkinlik/serdar-ortac-konseri-mersin/
LOCATION:Yenisehir
CATEGORIES:Music
END:VEVENT
END:VCALENDAR