BEGIN:VCALENDAR
VERSION:2.0
PRODID:-//MyMersin – Restoranlar, Etkinlikler ve Gezi Rehberi - ECPv6.15.20//NONSGML v1.0//EN
CALSCALE:GREGORIAN
METHOD:PUBLISH
X-WR-CALNAME:MyMersin – Restoranlar, Etkinlikler ve Gezi Rehberi
X-ORIGINAL-URL:https://mymersin.com.tr
X-WR-CALDESC:MyMersin – Restoranlar, Etkinlikler ve Gezi Rehberi için etkinlikler
REFRESH-INTERVAL;VALUE=DURATION:PT1H
X-Robots-Tag:noindex
X-PUBLISHED-TTL:PT1H
BEGIN:VTIMEZONE
TZID:Europe/Istanbul
BEGIN:STANDARD
TZOFFSETFROM:+0300
TZOFFSETTO:+0300
TZNAME:+03
DTSTART:20240101T000000
END:STANDARD
END:VTIMEZONE
BEGIN:VEVENT
DTSTART;TZID=Europe/Istanbul:20251020T203000
DTEND;TZID=Europe/Istanbul:20251020T203000
DTSTAMP:20260420T025031
CREATED:20250903T203514Z
LAST-MODIFIED:20250903T203626Z
UID:50905-1760992200-1760992200@mymersin.com.tr
SUMMARY:Baturay Özdemir Stand-Up – Live in Mersin
DESCRIPTION:🎭 Baturay Özdemir Stand-Up – Live in Mersin\n📅 Date: Monday\, October 20\, 2025🕢 Time: 20:30📍 Venue: Mersin Yenişehir Municipality Atatürk Cultural Center🎟️ Ticket Price: 750 ₺ (Reserved Seating) \n\nEvent Details\nKnown for his unique style and bold humor\, Baturay Özdemir has become one of the most talked-about names in Turkish stand-up comedy. With shows like “Yerli ve Kirli”\, “Cevap Hakkı”\, and “Biraz Daha”\, he has reached millions of fans across Turkey. \nNow\, Baturay returns to the stage with his brand-new performance as part of his nationwide tour. Expect a night full of laughter\, sharp wit\, and a fearless take on everyday life. \n\nVenue\nMersin Yenişehir Municipality Atatürk Cultural Center \nA modern cultural hub in Mersin\, offering comfortable seating and excellent acoustics for an evening of comedy. \n\nTags\n\n\n🎭 Baturay Özdemir \n\n\n🎤 Stand-Up Comedy \n\n\n🎶 Live Show \n\n\n🔥 Trending in Mersin \n\n\n\n👉 Get Your Ticket Now: [BUY TICKET] \n\n✨ An unforgettable night of comedy awaits – join Baturay Özdemir live in Mersin and laugh without limits!
URL:https://mymersin.com.tr/etkinlik/baturay-ozdemir-stand-up-live-in-mersin/
LOCATION:Mersin Yenişehir Belediyesi Atatürk Kültür Merkezi\, Limonluk\, 13. Cd. No: 11\, 33120 Yenişehir/Mersin\, Mersin\, Turkey
CATEGORIES:Entertainment
ATTACH;FMTTYPE=image/webp:https://mymersin.com.tr/wp-content/uploads/2025/09/baturay-ozdemir-scaled-e1756931646557.webp
END:VEVENT
END:VCALENDAR