BEGIN:VCALENDAR
VERSION:2.0
PRODID:-//MyMersin – Restoranlar, Etkinlikler ve Gezi Rehberi - ECPv6.15.20//NONSGML v1.0//EN
CALSCALE:GREGORIAN
METHOD:PUBLISH
X-WR-CALNAME:MyMersin – Restoranlar, Etkinlikler ve Gezi Rehberi
X-ORIGINAL-URL:https://mymersin.com.tr
X-WR-CALDESC:MyMersin – Restoranlar, Etkinlikler ve Gezi Rehberi için etkinlikler
REFRESH-INTERVAL;VALUE=DURATION:PT1H
X-Robots-Tag:noindex
X-PUBLISHED-TTL:PT1H
BEGIN:VTIMEZONE
TZID:UTC
BEGIN:STANDARD
TZOFFSETFROM:+0000
TZOFFSETTO:+0000
TZNAME:UTC
DTSTART:20240101T000000
END:STANDARD
END:VTIMEZONE
BEGIN:VEVENT
DTSTART;TZID=UTC:20251017T210000
DTEND;TZID=UTC:20251017T210000
DTSTAMP:20260420T025034
CREATED:20250814T180545Z
LAST-MODIFIED:20250903T131013Z
UID:39578-1760734800-1760734800@mymersin.com.tr
SUMMARY:Duman
DESCRIPTION:Experience the raw energy of Turkish rock legends Duman\, live at Jolly Joker Mersin. With iconic hits like Kufi\, Her Şeyi Yak\, and Yürek\, this concert promises an unforgettable night of music\, emotion\, and electrifying performance. \n📅 Event Details\n\nDate: Friday\, October 17\, 2025\nTime: 21:00 (Doors open at 20:00)\nVenue: Jolly Joker Mersin\nLocation: Marina AVM\, Mezitli\, Mersin\, Türkiye\n\n🎶 Why Attend?\n\nOver 5.5 million fans worldwide and 3.7M+ monthly streamers\nA setlist packed with chart-topping anthems and fan favorites\nExclusive live-only surprises and immersive atmosphere\nOne of the most anticipated concerts in Mersin’s 2025 music calendar\n\n🎟️ Tickets\n\nAvailability: Limited – selling fast\nBooking: Secure your tickets now\nPricing: Tiered options available (General Admission\, VIP)
URL:https://mymersin.com.tr/etkinlik/duman/
LOCATION:Joly Joker Mersin\, MERSİN MARİNA AVM\, Mersin\, Yenisehir\, 33160\, Turkey
CATEGORIES:Entertainment,Music
ATTACH;FMTTYPE=image/webp:https://mymersin.com.tr/wp-content/uploads/2025/08/duman.webp
ORGANIZER;CN="Joly Joker":MAILTO:mersin@jolyjoker.com.tr
END:VEVENT
END:VCALENDAR