BEGIN:VCALENDAR
VERSION:2.0
PRODID:-//MyMersin – Restoranlar, Etkinlikler ve Gezi Rehberi - ECPv6.15.20//NONSGML v1.0//EN
CALSCALE:GREGORIAN
METHOD:PUBLISH
X-WR-CALNAME:MyMersin – Restoranlar, Etkinlikler ve Gezi Rehberi
X-ORIGINAL-URL:https://mymersin.com.tr
X-WR-CALDESC:MyMersin – Restoranlar, Etkinlikler ve Gezi Rehberi için etkinlikler
REFRESH-INTERVAL;VALUE=DURATION:PT1H
X-Robots-Tag:noindex
X-PUBLISHED-TTL:PT1H
BEGIN:VTIMEZONE
TZID:UTC
BEGIN:STANDARD
TZOFFSETFROM:+0000
TZOFFSETTO:+0000
TZNAME:UTC
DTSTART:20240101T000000
END:STANDARD
END:VTIMEZONE
BEGIN:VEVENT
DTSTART;TZID=UTC:20251012T220000
DTEND;TZID=UTC:20251012T220000
DTSTAMP:20260420T025126
CREATED:20250805T180512Z
LAST-MODIFIED:20250825T132257Z
UID:39572-1760306400-1760306400@mymersin.com.tr
SUMMARY:Sancak
DESCRIPTION:Don’t Miss Sancak Live in Mersin on Sunday\, October 12\, 2025! \nAre you ready to experience Sancak like never before? With chart-topping hits like Ev Gibi\, Yau011fmur and Bana Kendimi Ver and 968.4K+ devoted fans\, Sancak is taking over 6:45 KK Mersin this Sunday\, October 12\, 2025\, and trust us\, you don’t want to miss this. \n  \nWith multiple shows lined up\, this one ensures to be the ultimate musical experience\, where the energy of Sancak will make you dance\, sing\, and maybe even cry (in a good way). \nEvent Details: \n📅 Date: Sunday\, October 12\, 2025\n⏰ Time: 10:00 PM\n📍 Venue: 6:45 KK Mersin \n  \nExpect an unforgettable performance featuring all your favorite songs and some surprises you’ve never heard before. So\, If you’re discovering Sancak for the first time\, this show will blow your mind. \nWhy This Show is Unmissable \nWith over 1.3M+ fans streaming their music monthly and viral singles in every playlist\, Sancak is at the peak of their career. If you’re a long-time fan or just love the buzz\, this show will be one for the books. \n  \nP.S. – You don’t want to be that person who hears about it later! We will not let you miss this in any way!🎉 \nArtist’s Power Move \nSancak has been setting the stage on fire with performances that leave fans begging for more. With an incredible setlist and live versions of your favorite songs\, you’ll leave with stories to tell (and maybe a few epic selfies). Follow Sancak on AllEvents to get hyped for the event! \n🎟️ Book Your Tickets Now! 🎟️ \nThis is your chance to witness Sancak live and in their element. Grab your tickets now for Sancak in mersin at 6:45 KK Mersin and be part of a night that everyone will be talking about. Don’t wait—tickets are selling fast.
URL:https://mymersin.com.tr/etkinlik/sancak/
LOCATION:6:45 KK Mersin\, Üniversite Cd. 47/D\, Yenisehir\, 33112\, Turkey
CATEGORIES:Entertainment,Music
ATTACH;FMTTYPE=image/webp:https://mymersin.com.tr/wp-content/uploads/2025/08/sancak.webp
END:VEVENT
END:VCALENDAR