BEGIN:VCALENDAR
VERSION:2.0
PRODID:-//MyMersin – Restoranlar, Etkinlikler ve Gezi Rehberi - ECPv6.15.20//NONSGML v1.0//EN
CALSCALE:GREGORIAN
METHOD:PUBLISH
X-WR-CALNAME:MyMersin – Restoranlar, Etkinlikler ve Gezi Rehberi
X-ORIGINAL-URL:https://mymersin.com.tr
X-WR-CALDESC:MyMersin – Restoranlar, Etkinlikler ve Gezi Rehberi için etkinlikler
REFRESH-INTERVAL;VALUE=DURATION:PT1H
X-Robots-Tag:noindex
X-PUBLISHED-TTL:PT1H
BEGIN:VTIMEZONE
TZID:Europe/Istanbul
BEGIN:STANDARD
TZOFFSETFROM:+0300
TZOFFSETTO:+0300
TZNAME:+03
DTSTART:20240101T000000
END:STANDARD
END:VTIMEZONE
BEGIN:VEVENT
DTSTART;TZID=Europe/Istanbul:20250912T200000
DTEND;TZID=Europe/Istanbul:20250912T233000
DTSTAMP:20260420T011603
CREATED:20250903T133452Z
LAST-MODIFIED:20250903T133850Z
UID:50882-1757707200-1757719800@mymersin.com.tr
SUMMARY:Blok3 Concert – Mersin
DESCRIPTION:🎶 Blok3 Concert – Mersin\n📅 Date: Friday\, September 12\, 2025🕗 Time: 20:00📍 Venue: Mezitli Municipality Open-Air Theater🎟️ Ticket Price: 850 ₺ (Standing) \n\nEvent Details\nWith hit songs like “Vur”\, “Yaptırıcaz Tırnaklarını”\, “Affetmem”\, and “Baybay”\, Blok3 has become one of the most exciting names in the Turkish music scene. \nGet ready for a night full of energy\, rhythm\, and unforgettable live performance. Don’t miss your chance to experience Blok3 live in Mersin! \n\nVenue\nMezitli Municipality Open-Air Theater \nAn open-air venue that offers a unique atmosphere to enjoy live music under the stars.
URL:https://mymersin.com.tr/etkinlik/blok3-concert-mersin/
LOCATION:Mezitli Belediyesi Acik Hava Tiyatrosu\, Akdeniz Mahallesi\, Mezitli\, 33340\, Turkey
CATEGORIES:Entertainment,Music
ATTACH;FMTTYPE=image/webp:https://mymersin.com.tr/wp-content/uploads/2025/09/blok-3-scaled-e1756906710800.webp
END:VEVENT
END:VCALENDAR